BEGIN:VCALENDAR
VERSION:2.0
PRODID:-//Kärntner Seniorenbund - ECPv6.15.20//NONSGML v1.0//EN
CALSCALE:GREGORIAN
METHOD:PUBLISH
X-WR-CALNAME:Kärntner Seniorenbund
X-ORIGINAL-URL:https://www.seniorenbund-ktn.at
X-WR-CALDESC:Veranstaltungen für Kärntner Seniorenbund
REFRESH-INTERVAL;VALUE=DURATION:PT1H
X-Robots-Tag:noindex
X-PUBLISHED-TTL:PT1H
BEGIN:VTIMEZONE
TZID:Europe/Vienna
BEGIN:DAYLIGHT
TZOFFSETFROM:+0100
TZOFFSETTO:+0200
TZNAME:CEST
DTSTART:20250330T010000
END:DAYLIGHT
BEGIN:STANDARD
TZOFFSETFROM:+0200
TZOFFSETTO:+0100
TZNAME:CET
DTSTART:20251026T010000
END:STANDARD
BEGIN:DAYLIGHT
TZOFFSETFROM:+0100
TZOFFSETTO:+0200
TZNAME:CEST
DTSTART:20260329T010000
END:DAYLIGHT
BEGIN:STANDARD
TZOFFSETFROM:+0200
TZOFFSETTO:+0100
TZNAME:CET
DTSTART:20261025T010000
END:STANDARD
BEGIN:DAYLIGHT
TZOFFSETFROM:+0100
TZOFFSETTO:+0200
TZNAME:CEST
DTSTART:20270328T010000
END:DAYLIGHT
BEGIN:STANDARD
TZOFFSETFROM:+0200
TZOFFSETTO:+0100
TZNAME:CET
DTSTART:20271031T010000
END:STANDARD
END:VTIMEZONE
BEGIN:VEVENT
DTSTART;VALUE=DATE:20260101
DTEND;VALUE=DATE:20270101
DTSTAMP:20260421T105733
CREATED:20240606T065355Z
LAST-MODIFIED:20260415T111021Z
UID:14089-1767225600-1798761599@www.seniorenbund-ktn.at
SUMMARY:Termine Landesgeschäftsstelle Adlergasse 1
DESCRIPTION:Termine 2026\nHow_are_you_2026_1HJ_Anfaenger\n  \nEinfach tun 2026 1 HJ\n  \nWorkshop OEBB Ticketkauf Seniorenbund_Juni 2026\n  \nSesselYOGA mit Sara \nSesselYOGA eignet sich perfekt für Menschen mit körperlichen Einschränkungen. In den Räumlichkeiten in der Adlergasse 1 finden regelmäßig SesselYOGA-Einheiten mit Trainerin Sara statt. \nWeitere Informationen dazu sowie alle aktuellen Termine hier >> Termine Yoga \n  \nZum Download: \nFlyer „How are you?“ (PDF)\nFlyer „Einfach tun“  (PDF)\nFlyer Workshop ÖBB Ticketkauf (PDF)\n 
URL:https://www.seniorenbund-ktn.at/veranstaltungen/termine-in-der-adlergasse/
LOCATION:Kärntner Seniorenbund Landesgeschäftsstelle\, Adlergasse 1\, Klagenfurt\, Kärnten\, 9020
ATTACH;FMTTYPE=image/webp:https://www.seniorenbund-ktn.at/wp-content/uploads/2024/06/adlergasse-1-scaled-e1724826764846.webp
END:VEVENT
BEGIN:VEVENT
DTSTART;VALUE=DATE:20260305
DTEND;VALUE=DATE:20260917
DTSTAMP:20260421T105733
CREATED:20240918T113605Z
LAST-MODIFIED:20260303T140925Z
UID:14379-1772668800-1789603199@www.seniorenbund-ktn.at
SUMMARY:Fit und g`sund mit dem Seniorenbund
DESCRIPTION:Bowling 2026 1 HJ\nOESB Sporttermine 2026 \n  \nSanfte Bewegung – unser Yoga-Angebot\nAktiv etwas für die Gesundheit tun! Wir bieten sowohl Termine in der Adlergasse für SesselYOGA als auch eine Anleitung zum Yoga für Zuhause an. \nNähere Informationen finden Sie hier:  Yoga-Angebot \n  \nZum Download: \nBowling 1. Halbjahr 2026(PDF) \nÖSB Sporttermine (PDF)
URL:https://www.seniorenbund-ktn.at/veranstaltungen/landauf-landab/
CATEGORIES:Fit und Gsund
ATTACH;FMTTYPE=image/png:https://www.seniorenbund-ktn.at/wp-content/uploads/2023/06/termine.png
END:VEVENT
END:VCALENDAR